BEGIN:VCALENDAR
VERSION:2.0
PRODID:-//Croce Rossa Italiana - Comitato di Galliate - ECPv5.9.1//NONSGML v1.0//EN
CALSCALE:GREGORIAN
METHOD:PUBLISH
X-WR-CALNAME:Croce Rossa Italiana - Comitato di Galliate
X-ORIGINAL-URL:https://www.crigalliate.it
X-WR-CALDESC:Eventi per Croce Rossa Italiana - Comitato di Galliate
BEGIN:VTIMEZONE
TZID:UTC
BEGIN:STANDARD
TZOFFSETFROM:+0000
TZOFFSETTO:+0000
TZNAME:UTC
DTSTART:20190101T000000
END:STANDARD
END:VTIMEZONE
BEGIN:VEVENT
DTSTART;TZID=UTC:20190830T070000
DTEND;TZID=UTC:20190830T120000
DTSTAMP:20260424T163141
CREATED:20190705T184218Z
LAST-MODIFIED:20190812T205118Z
UID:2738-1567148400-1567166400@www.crigalliate.it
SUMMARY:Presenza al mercato settimanale di Galliate
DESCRIPTION:
URL:https://www.crigalliate.it/eventi/presenza-al-mercato-settimanale-di-galliate-5/
LOCATION:p.zza Castello\, Galliate\, Italia
CATEGORIES:Solidarietà
ATTACH;FMTTYPE=image/jpeg:https://www.crigalliate.it/wp-content/uploads/2018/07/Foto-mercato-27.7.2018.jpg
END:VEVENT
END:VCALENDAR